{"text_format":"1","workbook":"xlsx","n_sheets":7,"sheets":["Descripción hoja","Agua Afluente","Parámetros ","Matriz de estequiometría","Inicialización","Solver","Resultados"],"not_rendered":{"charts":0,"images":3,"macros":1,"external_links":0,"defined_names":327,"comments":0,"pivot_tables":0},"unopened":[],"bounds":{"document_bytes":16777216,"sheet_cells":100000,"rows_first":2000,"rows_last":500,"rows_between":2000,"halvings":0,"cell_chars":16384,"cell_head_chars":4096},"cells_cut":0,"cells_raw":0,"read":"whole","date_system":"1900"}

{"sheet":"Descripción hoja","index":0,"n_rows":65,"n_cols":8,"rows_kept":65,"cut":false,"hidden":false,"merged":[]}
[]
[]
[]
[]
[]
["En esta hoja se describen las instrucciones principales para la utilización del simulador diseñado."]
[]
["A lo largo de toda el archivo excel hay dos tipos de celda que contiene parámetros o variables, que se distinguen por un código de colores: "]
[null,1,"Celdas activas: estas celdas están indicadas en azul y son aquellas en las que el usuario puede introducir/modificar información"]
[null,2,"Celdas informativas: estas celdas son aquellas en las que se visualiza la información útil para el usuario pero no se pueden modificar, ya que se calculan a partir de otros parámetros y variables"]
[]
["Así mismo, se han definido dos tipos de hojas: "]
[null,1,"Hojas activas: estas hojas son aquellas en las que el usuario puede introducir/modificar información"]
[null,2,"Hojas informativas: estas hojas son aquellas en las que se visualiza información útil para el usuario pero no se pueden modificar"]
[]
["Para poder moverse de una hoja a otra, se puede hacer click sobre el texto de la columna azul que aparece en la parte izquierda"]
[]
["A continuación se describe el objetivo y funcionamiento de cada una de las hojas"]
[]
["Hoja Agua afluente: "]
[null,"Esta hoja es una hoja activa"]
[null,"En esta hoja se debe incluir las características del agua afluente. "]
[null,"Se introducen las analíticas fundamentales del agua afluente y los ratios que se aplican para la caracterización y se calculan los valores de las concentraciones de los estados del vector de componente"]
[]
["Hoja Parámetros: "]
[null,"Esta hoja es una hoja activa"]
[null,"En esta hoja el usuario puede definir los parámetros de operación y los parámetros estequiométricos y cinéticos del modelo:"]
[null,null,"Caudal afluente (LIN), Temperatura de funcionamiento, fracción no sedimentable (fns), parámetros estequiométicos, parámetros cinéticos a 20ºC, factor de Arrenhius que corrige el parámetro cinético a la temperatura de funcionamiento"]
[null,"A partir de estos parámetros, en las celdas informativas se calculan los siguientes parámetros: "]
[null,null,"oxigeno disuelto (OD) saturado, parámetros cinéticos a la temperatura T"]
[]
["Hoja Matriz de estequiometría: "]
[null,"Esta hoja es una hoja informativa, donde el usuario no debe modificar nada. "]
[null,"Es la matriz de estequiometría del ASM1 calculada a partir de los parámetros estequiométricos definidos en la hoja parámetros"]
[]
["Hoja inicialización: "]
[null,"Esta Hoja es una hoja informativa, donde el usuario no debe modificar nada. "]
[null,"En esta hoja se calculan los valores iniciales de los estados en todos los reactores en función del TRH y TRS tal y como se explica en Marais and Ekama 1976"]
[null,"Así mismo, se pantean unos valores de kLa, volumen total, fair y caudales de recirculación para que estén dentro de los límites que se han explicado en la teoría"]
[]
["Hoja solver: "]
[null,"La hoja solver es una hoja activa"]
[null,"Es la hoja donde están definidos los balances hidráulicos y los balances de masa en cada uno de los reactores "]
[null,"Antes de emplear la herramienta solver y realizar la optimización, hay que inicializar los valores de las variables independientes"]
[null,null,"Para ello, simplemente hay que pulsar el botón inicializar así se copiarán los valores de la pestaña inicialización para tener un punto de partida bueno para la convergencia del problema"]
[null,"A continuación se definen la función objetivo y restricciones del problema en el solver."]
[null,"Se accede a pestaña \"Datos\" de la barra de herramientas Excel y hacer clic en Solver (*Si solver no está activo consultar sección activar solver en esta hoja)"]
[null,"Para configurar el solver hay que determinar tres apartados: "]
[null,null,"Definir celda objetivo: se selecciona la celda donde se ha determinado la función objetivo a minimizar"]
[null,null,"Definir celdas variables: se seleccionan los parámetros que se pueden modificar "]
[null,null,"Definir restricciones: definir restricciones del problema",null,null,null,null,"(Además de las restricciones específicas del problema, siempre se tienen que incluir las restricciones de Derivadas=0 y Estados>0.0001)"]
[]
[]
["Activar solver: "]
[null,"Ir a la pestaña archivo -> Opciones"]
[null,"Complementos -> Complementos Excel -> hacer clic IR"]
[null,"En el cuadro complementos disponibles activar Solver -> hacer clic en Aceptar"]
[]
["Hoja resultados: "]
[null,"Esta hoja es una hoja informativa, donde el usuario no debe modificar nada. "]
[null,"En esta hoja se muestran los resultados más relevantes del diseño y operación de la planta"]
[]
["Referencia: "]
["Marais, G. R. and Ekama, G.A. The activated sludge process Part I: Steady state behavviour. Special Supplement to WATER SA. Vol2, No 4. "]
["Rivas A., Irizar I. and Ayesa E. Model-based optimization of wastewater treatment plants design. Environmental Modelling and Software, 23, 4, pp. 435-450, 2008."]

{"sheet":"Agua Afluente","index":1,"n_rows":24,"n_cols":26,"rows_kept":24,"cut":false,"hidden":false,"merged":[[14,3,14,5],[20,3,20,5],[20,9,20,11],[21,9,21,11],[3,3,6,5],[3,8,3,16],[17,3,17,5],[8,3,8,5],[11,3,11,5],[12,8,12,16],[14,9,14,11],[16,9,16,11],[15,9,15,11]]}
[]
[]
[]
[null,null,null,"Fangos Activados",null,null,null,null,"Analíticas fundamentales Agua Residual"]
[null,null,null,null,null,null,null,null,null,null,null,null,null,null,null,null,null,null,null,null,null,null,null,"Agua influente"]
[null,null,null,null,null,null,null,null,null,"SST ",null,150,null,"gSS/m3",null,null,null,null,null,null,null,1,"SI",{"$f":"L7*N17*N18","v":57.6},null,"gDQO/m3"]
[null,null,null,null,null,null,null,null,null,"DQOT ",null,480,null,"gDQO/m3",null,null,null,null,null,null,null,2,"SS",{"$f":"L7*N17*(1-N18)","v":230.4},null,"gDQO/m3"]
[null,null,null,null,null,null,null,null,null,"N-NH4",null,45,null,"gN/m3",null,null,null,null,null,null,null,3,"XI",{"$f":"L6*N15*N16*N19","v":34.735499999999995},null,"gDQO/m3"]
[null,null,null,"Agua afluente",null,null,null,null,null,"Alcalinidad",null,30,null,null,null,null,null,null,null,null,null,4,"XS",{"$f":"L6*N15*N16*(1-N19-N20)","v":142.8015},null,"gDQO/m3"]
[null,null,null,null,null,null,null,null,null,null,null,null,null,null,null,null,null,null,null,null,null,5,"XB,H",{"$f":"L6*N15*N16*N20","v":15.438000000000001},null,"gDQO/m3"]
[null,null,null,null,null,null,null,null,null,null,null,null,null,null,null,null,null,null,null,null,null,6,"XB,A",0.01,null,"gDQO/m3"]
[null,null,null,"Parámetros del modelo",null,null,null,null,null,null,null,null,null,null,null,null,null,null,null,null,null,7,"XP",0.01,null,"gDQO/m3"]
[null,null,null,null,null,null,null,null,"Ratios ",null,null,null,null,null,null,null,null,null,null,null,null,8,"SO2",0,null,"g O2/m3"]
[null,null,null,null,null,null,null,null,null,null,null,null,null,null,null,null,null,null,null,null,null,9,"SNO",0.01,null,"gN/m3"]
[null,null,null,"Matriz de estequiometría ",null,null,null,null,null,"DQOP/SSV",null,null,null,1.55,null,"g DQO/g SS",null,null,null,null,null,10,"SNH",{"$f":"L8","v":45},null,"gN/m3"]
[null,null,null,null,null,null,null,null,null,"SSV/SST",null,null,null,0.83,null,"g SS/g SS",null,null,null,null,null,11,"SND",{"$f":"N21*X7","v":6.9119999999999999},null,"gN/m3"]
[null,null,null,null,null,null,null,null,null,"DQOs/DQOT",null,null,null,0.6,null,"g DQO/g DQO",null,null,null,null,null,12,"XND",{"$f":"N22*X9","v":4.2840449999999999},null,"gN/m3"]
[null,null,null,"Inicialización ",null,null,null,null,null,"SI/DQOs",null,null,null,0.2,null,"g DQO/g DQO",null,null,null,null,null,13,"SALK",{"$f":"L9","v":30}]
[null,null,null,null,null,null,null,null,null,"XI/DQOp",null,null,null,0.18,null,"g DQO/g DQO"]
[null,null,null,null,null,null,null,null,null,"XH/DQOP",null,null,null,0.08,null,"g DQO/g DQO"]
[null,null,null,"Solver",null,null,null,null,null,"SND/SS",null,null,null,0.03,null,"g N/g DQO"]
[null,null,null,null,null,null,null,null,null,"XND/XS",null,null,null,0.03,null,"g N/g DQO"]
[]
[null,null,null,"Resultados"]

{"sheet":"Parámetros ","index":2,"n_rows":24,"n_cols":36,"rows_kept":24,"cut":false,"hidden":false,"merged":[[3,3,6,5],[3,26,3,36],[23,3,23,5],[17,3,17,5],[20,3,20,5],[8,3,8,5],[11,3,11,5],[3,8,3,14],[10,8,10,14],[16,8,16,14],[14,3,14,5]]}
[]
[]
[]
[null,null,null,"Fangos Activados",null,null,null,null,"Parámetros globales",null,null,null,null,null,null,null,"Parámetros estequiométricos",null,null,null,null,null,null,null,null,null,"Parámetros cinéticos"]
[]
[null,null,null,null,null,null,null,null,null,"Lin",null,22651,null,"m3/d",null,null,null,"YA",null,0.24,null,"g DQO/g N",null,null,null,null,null,null,null,"Valor a 20 ºC",null,"Arrhenius",null,"Valor a T"]
[null,null,null,null,null,null,null,null,null,"Temperatura",null,13,null,"ºC",null,null,null,"YH",null,0.67,null,"g DQO/g DQO",null,null,null,null,null,"µH",null,6,null,1.0720000000000001,null,{"$f":"muH_20*AF7^(Temp-20)","v":3.6879731698733842},null,"d-1"]
[null,null,null,null,null,null,null,null,null,null,null,null,null,null,null,null,null,"fP",null,0.08,null,"-",null,null,null,null,null,"KS",null,20,null,null,null,{"$f":"KS_20","v":20},null,"g DQO/m3"]
[null,null,null,"Agua afluente",null,null,null,null,null,null,null,null,null,null,null,null,null,"iXB",null,8.5999999999999993E-2,null,"g N/ g DQO",null,null,null,null,null,"KO,H",null,0.2,null,null,null,{"$f":"KOH_20","v":0.2},null,"g O2/m3"]
[null,null,null,null,null,null,null,null,null,null,null,null,null,null,null,null,null,"iXE",null,0.06,null,"g N/ g DQO ",null,null,null,null,null,"KNO",null,0.5,null,null,null,{"$f":"KNO_20","v":0.5},null,"g N-NO3/m3"]
[null,null,null,null,null,null,null,null,"Aireación",null,null,null,null,null,null,null,null,"iXP",null,0.06,null,null,null,null,null,null,null,"bH",null,0.62,null,1.1200000000000001,null,{"$f":"bH_20*AF11","v":0.69440000000000002},null,"d-1"]
[null,null,null,"Parámetros del modelo",null,null,null,null,null,null,null,null,null,null,null,null,null,null,null,null,null,null,null,null,null,null,null,"ƞg",null,0.8,null,null,null,{"$f":"ng_20","v":0.8},null,"-"]
[null,null,null,null,null,null,null,null,null,"SO2,SAT",null,9,null,"g O2/m3",null,null,null,null,null,null,null,null,null,null,null,null,null,"ƞh",null,0.4,null,null,null,{"$f":"nh_20","v":0.4},null,"-"]
[null,null,null,null,null,null,null,null,null,null,null,null,null,null,null,null,null,null,null,null,null,null,null,null,null,null,null,"kh",null,3,null,1.1160000000000001,null,{"$f":"kh_20*AF14^(Temp-20)","v":1.3914637365499369},null,"g DQO/g DQO"]
[null,null,null,"Matriz de estequiometría ",null,null,null,null,null,null,null,null,null,null,null,null,null,null,null,null,null,null,null,null,null,null,null,"KX",null,0.03,null,1.1160000000000001,null,{"$f":"KX_20*AF15^(Temp-20)","v":1.3914637365499369E-2},null,"g DQO/g DQO"]
[null,null,null,null,null,null,null,null,null,null,null,null,null,null,null,null,null,null,null,null,null,null,null,null,null,null,null,"µA",null,0.8,null,1.03,null,{"$f":"muA_20*AF16^(Temp-20)","v":0.65047320907468309},null,"d-1"]
[null,null,null,null,null,null,null,null,"Decantador secundario",null,null,null,null,null,null,null,null,null,null,null,null,null,null,null,null,null,null,"KNH",null,1,null,null,null,{"$f":"KNH_20","v":1},null,"g N-NH3/m3"]
[null,null,null,"Inicialización ",null,null,null,null,null,null,null,null,null,null,null,null,null,null,null,null,null,null,null,null,null,null,null,"KO,A",null,0.4,null,null,null,{"$f":"KOA_20","v":0.4},null,"g O2/m3"]
[null,null,null,null,null,null,null,null,null,"fns",null,0.02,null,"-",null,null,null,null,null,null,null,null,null,null,null,null,null,"bA",null,0.15,null,1.1160000000000001,null,{"$f":"b_A*AF19^(Temp-20)","v":6.9573186827496844E-2},null,"d-1"]
[null,null,null,null,null,null,null,null,null,null,null,null,null,null,null,null,null,null,null,null,null,null,null,null,null,null,null,"Ka",null,0.08,null,1.0720000000000001,null,{"$f":"Ka_20*AF20^(Temp-20)","v":4.9172975598311797E-2},null,"m3"]
[null,null,null,"Solver",null,null,null,null,null,null,null,null,null,null,null,null,null,null,null,null,null,null,null,null,null,null,null,"k_nh_h",null,0.05,null,null,null,{"$f":"AD21","v":0.05}]
[]
[]
[null,null,null,"Resultados"]

{"sheet":"Matriz de estequiometría","index":3,"n_rows":24,"n_cols":25,"rows_kept":24,"cut":false,"hidden":false,"merged":[[3,3,6,5],[23,3,23,5],[17,3,17,5],[20,3,20,5],[8,3,8,5],[11,3,11,5],[14,3,14,5]]}
[]
[]
[]
[null,null,null,"Fangos Activados"]
[]
[]
[null,null,null,null,null,null,null,null,null,null,null,null,1,2,3,4,5,6,7,8,9,10,11,12,13]
[null,null,null,null,null,null,null,null,null,null,null,null,"SI","SS","XI","XS","XB,H","XB,A","XP","SO2","SNO","SNH","SND","XND","SALK"]
[null,null,null,"Agua afluente",null,null,null,null,null,null,null,null,"g DQO/m3","g DQO/m3","g DQO/m3","g DQO/m3","g DQO/m3","g DQO/m3","g DQO/m3","g O2/m3","g N/m3","g N/m3","g N/m3","g N/m3"]
[null,null,null,null,null,null,null,null,null,null,1,"Crecimiento aerobio de biomasa heterótrofa",0,{"$f":"-1/YH","v":-1.4925373134328357},0,0,1,0,0,{"$f":"-(1-YH)/YH","v":-0.49253731343283574},0,{"$f":"-i_XB","v":-8.5999999999999993E-2},0,0,{"$f":"-i_XB/14","v":-6.1428571428571426E-3}]
[null,null,null,null,null,null,null,null,null,null,2,"Crecimiento anóxico de biomasa heterótrofa",0,{"$f":"-1/YH","v":-1.4925373134328357},0,0,1,0,0,0,{"$f":"-(1-YH)/2.86/YH","v":-0.17221584385763489},{"$f":"-i_XB","v":-8.5999999999999993E-2},0,0,{"$f":"((1-YH)/(14*2.86*YH))-(i_XB/14)","v":6.1582745612596343E-3}]
[null,null,null,"Parámetros del modelo",null,null,null,null,null,null,3,"Crecimiento aerobio de biomasa autótrofa",0,0,0,0,0,1,0,{"$f":"-(4.57-YA)/YA","v":-18.041666666666668},{"$f":"1/YA","v":4.166666666666667},{"$f":"-i_XB-1/YA","v":-4.2526666666666673},0,0,{"$f":"-i_XB/14-1/7/YA","v":-0.60138095238095235}]
[null,null,null,null,null,null,null,null,null,null,4,"Lisis de biomasa heterótrofa",0,0,0,{"$f":"1-fp","v":0.92},-1,0,{"$f":"fp","v":0.08},0,0,0,0,{"$f":"i_XB-fp*i_XP","v":8.1199999999999994E-2},0]
[null,null,null,null,null,null,null,null,null,null,5,"Lisis de biomasa autótrofa",0,0,0,{"$f":"1-fp","v":0.92},0,-1,{"$f":"fp","v":0.08},0,0,0,0,{"$f":"i_XB-fp*i_XP","v":8.1199999999999994E-2},0]
[null,null,null,"Matriz de estequiometría ",null,null,null,null,null,null,6,"Amonificación de nitrógeno orgánico soluble",0,0,0,0,0,0,0,0,0,1,-1,0,{"$f":"1/14","v":7.1428571428571425E-2}]
[null,null,null,null,null,null,null,null,null,null,7,"Hidrólisis de compuestos particulados",0,1,0,-1,0,0,0,0,0,0,0,0,0]
[null,null,null,null,null,null,null,null,null,null,8,"Hidrólisis de nitrógeno orgánico particulado",0,0,0,0,0,0,0,0,0,0,1,-1,0]
[null,null,null,"Inicialización ",null,null,null,null,null,null,9,"Aporte de aireación",0,0,0,0,0,0,0,1,0,0,0,0,0]
[]
[]
[null,null,null,"Solver"]
[]
[]
[null,null,null,"Resultados"]

{"sheet":"Inicialización","index":4,"n_rows":25,"n_cols":17,"rows_kept":25,"cut":false,"hidden":false,"merged":[[23,3,23,5],[3,3,6,5],[8,3,8,5],[11,3,11,5],[17,3,17,5],[20,3,20,5],[14,3,14,5]]}
[]
[]
[]
[null,null,null,"Fangos Activados"]
[null,null,null,null,null,null,null,null,null,null,null,null,"R1","R2","R3","R4","R5"]
[null,null,null,null,null,null,null,null,null,1,"SI","g DQO/m3",{"$f":"'Agua Afluente'!X6","v":57.6},{"$f":"M6","v":57.6},{"$f":"P6","v":57.6},{"$f":"M6","v":57.6},{"$f":"O6","v":57.6}]
[null,null,null,null,null,null,null,null,null,2,"SS","g DQO/m3",{"$f":"KS_T*(1+bH_T*(V_tot*(1-f_aer))/Lw)/((V_tot*(1-f_aer))/Lw*(mu_h_T-bH_T-1))","v":11.42515821996917},{"$f":"M7","v":11.42515821996917},{"$f":"P7","v":11.42515821996917},11.42515821996917,11.42515821996917]
[null,null,null,null,null,null,null,null,null,3,"XI","g DQO/m3",{"$f":"'Agua Afluente'!X8*(N21/N23)/(N21/Qinf)","v":983.49226312499991},983.49226312499991,983.49226312499991,983.49226312499991,983.49226312499991]
[null,null,null,"Agua afluente",null,null,null,null,null,4,"XS","g DQO/m3",{"$f":"M7","v":11.42515821996917},11.42515821996917,11.42515821996917,11.42515821996917,11.42515821996917]
[null,null,null,null,null,null,null,null,null,5,"XB,H","g DQO/m3",{"$f":"((V_tot*(1-f_aer))/Lw)/((V_tot*(1-f_aer))/Qinf)*(YH*('Agua Afluente'!X7+'Agua Afluente'!X9-Inicialización!M7-Inicialización!M9))/(1+bH_T*(V_tot*(1-f_aer))/Lw)","v":2593.7544496413038},2593.7544496413038,2593.7544496413038,2593.7544496413038,2593.7544496413038]
[null,null,null,null,null,null,null,null,null,6,"XB,A","g DQO/m3",{"$f":"((V_tot*(f_aer))/Lw)/((V_tot*(f_aer))/Qinf)*(YA*('Agua Afluente'!X15-Inicialización!P15))/(1+b_A_T*((V_tot*(f_aer))/Lw))","v":221.48969453440967},221.48969453440967,221.48969453440967,221.48969453440967,221.48969453440967]
[null,null,null,"Parámetros del modelo",null,null,null,null,null,7,"XP","g DQO/m3",{"$f":"fp*M10","v":207.50035597130432},207.50035597130432,207.50035597130432,207.50035597130432,207.50035597130432]
[null,null,null,null,null,null,null,null,null,8,"SO2","g O2/m3",0,0,2,2,2]
[null,null,null,null,null,null,null,null,null,9,"SNO","g N/m3",1,1,6,7,9]
[null,null,null,"Matriz de estequiometría ",null,null,null,null,null,10,"SNH","g N/m3",34.410158000000003,34.410158000000003,0.5,0.5,1.5]
[null,null,null,null,null,null,null,null,null,11,"SND","g N/m3",{"$f":"'Agua Afluente'!X16","v":6.9119999999999999},6.9119999999999999,6.9119999999999999,{"$f":"M16","v":6.9119999999999999},{"$f":"O16","v":6.9119999999999999}]
[null,null,null,null,null,null,null,null,null,12,"XND","g N/m3",{"$f":"M9*'Agua Afluente'!N22","v":0.34275474659907507},0.34275474659907507,0.34275474659907507,{"$f":"M17","v":0.34275474659907507},{"$f":"O17","v":0.34275474659907507}]
[null,null,null,"Inicialización ",null,null,null,null,null,13,"SALK",null,{"$f":"'Agua Afluente'!X18","v":30},30,30,{"$f":"M18","v":30},{"$f":"O18","v":30}]
[]
[]
[null,null,null,"Solver",null,null,null,null,null,null,"kLa_R3",250,"V_TOT",6000]
[null,null,null,null,null,null,null,null,null,null,"kLa_R4",250,"fair",0.7]
[null,null,null,null,null,null,null,null,null,null,"kLa_R5",250,"Qw",800]
[null,null,null,"Resultados",null,null,null,null,null,null,"kLa_R1",0.01,"QR_int",200,"%"]
[null,null,null,null,null,null,null,null,null,null,"kLa_R2",0.01,"QR_ext",100,"%"]

{"sheet":"Solver","index":5,"n_rows":47,"n_cols":38,"rows_kept":47,"cut":false,"hidden":false,"merged":[[31,12,31,20],[20,35,20,36],[3,33,3,37],[3,28,3,32],[3,20,3,24],[3,10,3,14],[17,3,17,5],[20,3,20,5],[23,3,23,5],[3,3,6,5],[8,3,8,5],[11,3,11,5],[14,3,14,5]]}
[]
[]
[]
[null,null,null,"Fangos Activados",null,null,null,null,null,null,"Estados",null,null,null,null,null,null,null,null,null,"Vector de cinéticas",null,null,null,null,null,null,null,"Balances hidráulicos",null,null,null,null,"Balances de masa "]
[null,null,null,null,null,null,null,null,null,null,"R1","R2","R3","R4","R5","Efluente","Decantador espesado",null,null,null,"R1","R2","R3","R4","R5",null,null,null,"ET·ρR1","ET·ρR2","ET·ρR3","ET·ρR4","ET·ρR5","R1","R2","R3","R4","R5"]
[null,null,null,null,null,null,null,null,1,"SI",57.6,57.6,57.6,57.6,57.6,{"$f":"O6","v":57.6},{"$f":"((Qinf+(LR_ext/100*Qinf)-Lw)*O6-(Qinf-Lw)*P6)/(LR_ext/100*Qinf)","v":57.6},null,1,"Crecimiento aerobio de biomasa heterótrofa",{"$f":"mu_h_T*(K7/(KS_T+K7))*(K13/(KOH_T+K13))*(K15/(K15+KNH_H_T))*K10","v":334.6141327786039},{"$f":"mu_h_T*(L7/(KS_T+L7))*(L13/(KOH_T+L13))*(L15/(L15+KNH_H_T))*L10","v":2.7481928247619907},{"$f":"mu_h_T*(M7/(KS_T+M7))*(M13/(KOH_T+M13))*(M15/(M15+KNH_H_T))*M10","v":1875.7928822383431},{"$f":"mu_h_T*(N7/(KS_T+N7))*(N13/(KOH_T+N13))*(N15/(N15+KNH_H_T))*N10","v":1572.222033120137},{"$f":"mu_h_T*(O7/(KS_T+O7))*(O13/(KOH_T+O13))*(O15/(O15+KNH_H_T))*O10","v":1507.8496254922209},null,1,"SI",{"$f":"MMULT($M35:$U35,U$6:U$14)*(V_tot*(1-f_aer)/2)","v":0},{"$f":"MMULT($M35:$U35,V$6:V$14)*(V_tot*(1-f_aer)/2)","v":0},{"$f":"MMULT($M35:$U35,W$6:W$14)*(V_tot*f_aer/3)","v":0},{"$f":"MMULT($M35:$U35,X$6:X$14)*(V_tot*f_aer/3)","v":0},{"$f":"MMULT($M35:$U35,Y$6:Y$14)*(V_tot*f_aer/3)","v":0},{"$f":"Qinf*'Agua Afluente'!X6+(LR_ext/100*Qinf)*Q6+L_Rint/100*Qinf*O6-(Qinf+L_Rint/100*Qinf+(LR_ext/100*Qinf))*K6+AC6","v":0},{"$f":"(Qinf+(LR_ext/100*Qinf)+L_Rint/100*Qinf)*K6-(Qinf+(LR_ext/100*Qinf)+L_Rint/100*Qinf)*L6+AD6","v":0},{"$f":"(Qinf+(LR_ext/100*Qinf)+L_Rint/100*Qinf)*L6-(Qinf+(LR_ext/100*Qinf)+L_Rint/100*Qinf)*M6+AE6","v":0},{"$f":"(Qinf+(LR_ext/100*Qinf)+L_Rint/100*Qinf)*M6-(Qinf+(LR_ext/100*Qinf)+L_Rint/100*Qinf)*N6+AF6","v":0},{"$f":"(Qinf+(LR_ext/100*Qinf)+L_Rint/100*Qinf)*N6-(Qinf+(LR_ext/100*Qinf)-Lw)*O6-Lw*O6-L_Rint/100*Qinf*O6+AG6","v":0}]
[null,null,null,null,null,null,null,null,2,"SS",28.21464917535608,18.188372319470073,7.660732209573931,5.8033207746726836,5.450337575914256,{"$f":"O7","v":5.450337575914256},5.4503375759142569,null,2,"Crecimiento anóxico de biomasa heterótrofa",{"$f":"mu_h_T*(K7/(KS_T+K7))*(KOH_T/(KOH_T+K13))*(K14/(KNO_T+K14))*(K15/(K15+KNH_H_T))*ng_T*K10","v":2533.5237196237531},{"$f":"mu_h_T*(L7/(KS_T+L7))*(KOH_T/(KOH_T+L13))*(L14/(KNO_T+L14))*(L15/(L15+KNH_H_T))*ng_T*L10","v":882.70748060856772},{"$f":"mu_h_T*(M7/(KS_T+M7))*(KOH_T/(KOH_T+M13))*(M14/(KNO_T+M14))*(M15/(M15+KNH_H_T))*ng_T*M10","v":145.55307356961919},{"$f":"mu_h_T*(N7/(KS_T+N7))*(KOH_T/(KOH_T+N13))*(N14/(KNO_T+N14))*(N15/(N15+KNH_H_T))*ng_T*N10","v":93.877210210161465},{"$f":"mu_h_T*(O7/(KS_T+O7))*(KOH_T/(KOH_T+O13))*(O14/(KNO_T+O14))*(O15/(O15+KNH_H_T))*ng_T*O10","v":83.784479486314439},null,2,"SS",-3032797.1158385249,-908420.79673244734,-953846.30445433652,-168288.90566261343,-31981.689767386888,{"$f":"Qinf*'Agua Afluente'!X7+(LR_ext/100*Qinf)*Q7+L_Rint/100*Qinf*O7-(Qinf+L_Rint/100*Qinf+(LR_ext/100*Qinf))*K7+AC7","v":-4.2638508602976799E-4},-8.4817514289170504E-3,6.2693492509424686E-5,-1.4820805517956614E-5,-2.7078327548224479E-5]
[null,null,null,null,null,null,null,null,3,"XI",636.03968448367812,636.03968448367812,636.03968448367812,636.03968448367812,636.03968448367812,{"$f":"f_ns*O8","v":12.720793689673563},1237.3438689673562,null,3,"Crecimiento aerobio de biomasa autótrofa",{"$f":"mu_A_T*(K15/(KNH_T+K15))*(K13/(KOA_T+K13))*K11","v":2.1174188579405469},{"$f":"mu_A_T*(L15/(KNH_T+L15))*(L13/(KOA_T+L13))*L11","v":2.0603545568022723E-2},{"$f":"mu_A_T*(M15/(KNH_T+M15))*(M13/(KOA_T+M13))*M11","v":43.293309233875554},{"$f":"mu_A_T*(N15/(KNH_T+N15))*(N13/(KOA_T+N13))*N11","v":45.295923147038295},{"$f":"mu_A_T*(O15/(KNH_T+O15))*(O13/(KOA_T+O13))*O11","v":45.065480411319548},null,3,"XI",0,0,0,0,0,{"$f":"Qinf*'Agua Afluente'!X8+(LR_ext/100*Qinf)*Q8+L_Rint/100*Qinf*O8-(Qinf+L_Rint/100*Qinf+(LR_ext/100*Qinf))*K8+AC8","v":0},0,0,0,0]
[null,null,null,"Agua afluente",null,null,null,null,4,"XS",208.93190149370636,218.93967115155829,203.33362186031124,187.28724058282927,171.47918089475661,{"$f":"f_ns*O9","v":3.4295836178951324},333.59351359956878,null,4,"Lisis de biomasa heterótrofa",{"$f":"bH_T*K10","v":1425.0512387921867},{"$f":"bH_T*L10","v":1421.3547629207694},{"$f":"bH_T*M10","v":1427.724187431535},{"$f":"bH_T*N10","v":1430.2547444492473},{"$f":"bH_T*O10","v":1431.967925686911},null,4,"XS",370892.69689658663,906743.96005608863,-1413970.4899853969,-1453866.3292489047,-1432273.4399571801,{"$f":"Qinf*'Agua Afluente'!X9+(LR_ext/100*Qinf)*Q9+L_Rint/100*Qinf*O9-(Qinf+L_Rint/100*Qinf+(LR_ext/100*Qinf))*K9+AC9","v":-1.0108569404110312E-4},-2.0239281002432108E-3,-1.2496020644903183E-6,1.6071368008852005E-5,2.0956620573997498E-5]
[null,null,null,null,null,null,null,null,5,"XB,H",2052.2051249887481,2046.8818590448868,2056.0544173841231,2059.69865272069,2062.1657915998144,{"$f":"f_ns*O10","v":41.243315831996291},4011.7122583342898,null,5,"Lisis de biomasa autótrofa",{"$f":"b_A*K11","v":13.134835313773761},{"$f":"b_A*L11","v":13.115324174255948},{"$f":"b_A*M11","v":13.185108313951845},{"$f":"b_A*N11","v":13.259361965534609},{"$f":"b_A*O11","v":13.332911031464485},null,5,"XB,H",1298777.9522491535,-482309.18053869577,831070.47572699795,330182.29843347153,223532.65100827403,{"$f":"Qinf*'Agua Afluente'!X10+(LR_ext/100*Qinf)*Q10+L_Rint/100*Qinf*O10-(Qinf+L_Rint/100*Qinf+(LR_ext/100*Qinf))*K10+AC10","v":3.5340990871191025E-4},7.0389094762504101E-3,-4.1180755943059921E-5,-8.1578036770224571E-7,4.0788145270198584E-6]
[null,null,null,null,null,null,null,null,6,"XB,A",87.56556875849175,87.435494495039649,87.900722093012305,88.395746436897397,88.886073543096572,{"$f":"f_ns*O11","v":1.7777214708619316},172.9178867579833,null,6,"Amonificación de nitrógeno orgánico soluble",{"$f":"Ka*K16*K10","v":180.04073536609067},{"$f":"Ka*L16*L10","v":100.48236012173169},{"$f":"Ka*M16*M10","v":139.29960658389257},{"$f":"Ka*N16*N10","v":158.09900898605594},{"$f":"Ka*O16*O10","v":167.13979453430406},null,6,"XB,A",-9915.6748102498932,-11785.248565819134,42151.481287893192,44851.18565410516,44425.597131797091,{"$f":"Qinf*'Agua Afluente'!X11+(LR_ext/100*Qinf)*Q11+L_Rint/100*Qinf*O11-(Qinf+L_Rint/100*Qinf+(LR_ext/100*Qinf))*K11+AC11","v":-1.9611252355389297E-7},-4.676621756516397E-9,1.1784068192355335E-6,7.3994306148961186E-7,1.7275815480388701E-6]
[null,null,null,"Parámetros del modelo",null,null,null,null,7,"XP",552.90617840965979,554.04610430996047,555.82728219530213,557.61168001348301,559.39828649567414,{"$f":"f_ns*O12","v":11.187965729913483},1088.2466251585427,null,7,"Hidrólisis de compuestos particulados",{"$f":"kh_T*((K9/K10)/(KX_T+K9/K10))*((K13/(KOH_T+K13))+nh_T*(KOH_T/(KOH_T+K13))*(K14/(KNO_T+K14)))*K10","v":911.02819162572075},{"$f":"kh_T*((L9/L10)/(KX_T+L9/L10))*((L13/(KOH_T+L13))+nh_T*(KOH_T/(KOH_T+L13))*(L14/(KNO_T+L14)))*L10","v":312.21919117621405},{"$f":"kh_T*((M9/M10)/(KX_T+M9/M10))*((M13/(KOH_T+M13))+nh_T*(KOH_T/(KOH_T+M13))*(M14/(KNO_T+M14)))*M10","v":2335.6154735039886},{"$f":"kh_T*((N9/N10)/(KX_T+N9/N10))*((N13/(KOH_T+N13))+nh_T*(KOH_T/(KOH_T+N13))*(N14/(KNO_T+N14)))*N10","v":2366.5089273651029},{"$f":"kh_T*((O9/O10)/(KX_T+O9/O10))*((O13/(KOH_T+O13))+nh_T*(KOH_T/(KOH_T+O13))*(O14/(KNO_T+O14)))*O10","v":2352.7292268931769},null,7,"XP",103549.39733562917,103281.84627084184,161381.84112349452,161673.57991845557,161873.69371245804,{"$f":"Qinf*'Agua Afluente'!X12+(LR_ext/100*Qinf)*Q12+L_Rint/100*Qinf*O12-(Qinf+L_Rint/100*Qinf+(LR_ext/100*Qinf))*K12+AC12","v":-4.4674379751086235E-9},4.9476511776447296E-9,-4.4528860598802567E-9,-3.4924596548080444E-9,7.4796844273805618E-9]
[null,null,null,null,null,null,null,null,8,"SO2",1.6397536299223303E-2,1.534387754797804E-4,1.7318042617574863,2.4481839588729226,2.7094516807430438,{"$f":"O13","v":2.7094516807430438},2.7094516807430438,null,8,"Hidrólisis de nitrógeno orgánico particulado",{"$f":"U12*K17/K9","v":61.239881964184299},{"$f":"V12*L17/L9","v":21.375407452062081},{"$f":"W12*M17/M9","v":163.85888749102514},{"$f":"X12*N17/N9","v":169.95373851122525},{"$f":"Y12*O17/O9","v":172.7889279212668},null,8,"SO2",-182629.68767952491,-1471.7802117430485,156894.49116882033,64906.866067470175,23671.900643117486,{"$f":"Qinf*'Agua Afluente'!X13+(LR_ext/100*Qinf)*Q13+L_Rint/100*Qinf*O13-(Qinf+L_Rint/100*Qinf+(LR_ext/100*Qinf))*K13+AC13","v":3.1523231882601976E-6},2.9820967029081658E-7,3.3586402423679829E-6,-9.9768440122716129E-6,-2.9202965379226953E-5]
[null,null,null,null,null,null,null,null,9,"SNO",1.731743952202359,0.22256855399683137,2.6225855545007919,5.2890486045886842,7.9675324274723192,{"$f":"O14","v":7.9675324274723192},7.9675324274723192,null,9,"Aporte de aireación",{"$f":"L24*(S_O2_sat-Solver!K13)","v":8.9836024637007766E-2},{"$f":"L25*(S_O2_sat-Solver!L13)","v":8.9998465612245213E-2},{"$f":"L21*(S_O2_sat-M13)","v":1817.0489345606284},{"$f":"L22*(S_O2_sat-N13)","v":1637.9540102817693},{"$f":"L23*(S_O2_sat-Solver!O13)","v":1572.6370798142391},null,9,"SNO",-384741.31206022773,-136737.32899132615,217451.14031706395,241592.21819224246,242681.34829435902,{"$f":"Qinf*'Agua Afluente'!X14+(LR_ext/100*Qinf)*Q14+L_Rint/100*Qinf*O14-(Qinf+L_Rint/100*Qinf+(LR_ext/100*Qinf))*K14+AC14","v":-6.1543658375740051E-5},-1.2123125488869846E-3,3.403110895305872E-6,2.0790612325072289E-6,5.8101431932300329E-6]
[null,null,null,"Matriz de estequiometría ",null,null,null,null,10,"SNH",16.858214284466005,17.099053514309052,13.7205335576134,10.972977336938085,8.4792145142018356,8.4792145142018356,8.4792145142018356,null,null,null,null,null,null,null,null,null,10,"SNH",-68061.416883342477,21820.99697551176,-306107.42215786176,-248939.58382111648,-225944.88679894357,{"$f":"Qinf*'Agua Afluente'!X15+(LR_ext/100*Qinf)*Q15+L_Rint/100*Qinf*O15-(Qinf+L_Rint/100*Qinf+(LR_ext/100*Qinf))*K15+AC15","v":-2.9542992706410587E-5},-6.0518762984429486E-4,-1.4088582247495651E-6,-3.050314262509346E-6,-7.7483709901571274E-6]
[null,null,null,null,null,null,null,null,11,"SND",1.7841177779072657,0.9983218136955031,1.3778082963002944,1.5609858749530532,1.6482754730178197,{"$f":"O16","v":1.6482754730178197},1.6482754730178197,null,null,null,null,null,null,null,null,null,11,"SND",-106920.76806171576,-71196.257402702657,34382.993269985607,16596.621335237047,7908.7867417478437,{"$f":"Qinf*'Agua Afluente'!X16+(LR_ext/100*Qinf)*Q16+L_Rint/100*Qinf*O16-(Qinf+L_Rint/100*Qinf+(LR_ext/100*Qinf))*K16+AC16","v":6.7542714532464743E-6},1.3873988064005971E-4,6.108166417106986E-8,-1.0175062925554812E-6,-1.3122598829795606E-6]
[null,null,null,null,null,null,null,null,12,"XND",14.044532434495435,14.989228114564321,14.265199663866882,13.450262682061021,12.593758554505888,{"$f":"f_ns*O17","v":0.25187517109011776},24.499744771936378,null,null,null,null,null,null,null,null,null,12,"XND",49986.744527897717,85593.207258048584,-65599.873747088248,-73836.550298482965,-77602.699971628608,{"$f":"Qinf*'Agua Afluente'!X17+(LR_ext/100*Qinf)*Q17+L_Rint/100*Qinf*O17-(Qinf+L_Rint/100*Qinf+(LR_ext/100*Qinf))*K17+AC17","v":-6.7700966610573232E-6},-1.3891269918531179E-4,-9.7556039690971375E-8,1.0553339961916208E-6,1.3767275959253311E-6]
[null,null,null,"Inicialización ",null,null,null,null,13,"SALK",27.866890738018814,27.991891782879421,27.579139143079448,27.192423480882074,26.822977291909229,{"$f":"O18","v":26.822977291909229},26.822977291909229,null,null,null,null,null,null,null,null,null,13,"SALK",22619.992512634661,11325.594711916992,-37397.040176780407,-35037.985858097061,-33473.30250666447,{"$f":"Qinf*'Agua Afluente'!X18+(LR_ext/100*Qinf)*Q18+L_Rint/100*Qinf*O18-(Qinf+L_Rint/100*Qinf+(LR_ext/100*Qinf))*K18+AC18","v":2.2861022443976253E-6},4.336657548265066E-5,-3.4363620216026902E-7,-3.6586425267159939E-7,-9.6920848591253161E-7]
[]
[]
[null,null,null,"Solver",null,null,null,null,null,null,"kLa_R3",250,"V_TOT",6000,null,"TSS",{"$f":"(O8+O9+O10+O11+O12)/'Agua Afluente'!N15/'Agua Afluente'!N16","v":2734.5270244982671},null,null,null,null,null,null,null,null,null,null,null,null,null,null,null,null,null,null,"Función objetivo",null,{"$f":"SUMSQ(Derivadas)","v":1.2778909914999321E-4}]
[null,null,null,null,null,null,null,null,null,null,"kLa_R4",250,"fair",0.7,null,"NT",{"$f":"P16+P17+P14+P15","v":18.346897585782092}]
[null,null,null,null,null,null,null,null,null,null,"kLa_R5",250,"Qw",800,null,"HRT",{"$f":"N21/Qinf*24","v":6.3573352169882122}]
[null,null,null,"Resultados",null,null,null,null,null,null,"kLa_R1",0.01,"QR_int",200,"%","SRT",{"$f":"N21/N23","v":7.5}]
[null,null,null,null,null,null,null,null,null,null,"kLa_R2",0.01,"QR_ext",100,"%"]
[]
[]
[]
[]
[]
[]
[null,null,null,null,null,null,null,null,null,null,null,null,"Matriz de estquiometría transpuesta"]
[null,null,null,null,null,null,null,null,null,null,null,null,1,2,3,4,5,6,7,8,9]
[null,null,null,null,null,null,null,null,null,null,null,null,"Crecimiento aerobio de biomasa heterótrofa","Crecimiento anóxico de biomasa heterótrofa","Crecimiento aerobio de biomasa autótrofa","Lisis de biomasa heterótrofa","Lisis de biomasa autótrofa","Amonificación de nitrógeno orgánico soluble","Hidrólisis de compuestos particulados","Hidrólisis de nitrógeno orgánico particulado","Aporte de aireación"]
[null,null,null,null,null,null,null,null,1,"SI","g DQO/m3",null,0,0,0,0,0,0,0,0,0]
[null,null,null,null,null,null,null,null,2,"SS","g DQO/m3",null,{"$f":"-1/YH","v":-1.4925373134328357},{"$f":"-1/YH","v":-1.4925373134328357},0,0,0,0,1,0,0]
[null,null,null,null,null,null,null,null,3,"XI","g DQO/m3",null,0,0,0,0,0,0,0,0,0]
[null,null,null,null,null,null,null,null,4,"XS","g DQO/m3",null,0,0,0,{"$f":"1-fp","v":0.92},{"$f":"1-fp","v":0.92},0,-1,0,0]
[null,null,null,null,null,null,null,null,5,"XB,H","g DQO/m3",null,1,1,0,-1,0,0,0,0,0]
[null,null,null,null,null,null,null,null,6,"XB,A","g DQO/m3",null,0,0,1,0,-1,0,0,0,0]
[null,null,null,null,null,null,null,null,7,"XP","g DQO/m3",null,0,0,0,{"$f":"fp","v":0.08},{"$f":"fp","v":0.08},0,0,0,0]
[null,null,null,null,null,null,null,null,8,"SO2","g O2/m3",null,{"$f":"-(1-YH)/YH","v":-0.49253731343283574},0,{"$f":"-(4.57-YA)/YA","v":-18.041666666666668},0,0,0,0,0,1]
[null,null,null,null,null,null,null,null,9,"SNO","g N/m3",null,0,{"$f":"-(1-YH)/2.86/YH","v":-0.17221584385763489},{"$f":"1/YA","v":4.166666666666667},0,0,0,0,0,0]
[null,null,null,null,null,null,null,null,10,"SNH","g N/m3",null,{"$f":"-i_XB","v":-8.5999999999999993E-2},{"$f":"-i_XB","v":-8.5999999999999993E-2},{"$f":"-i_XB-1/YA","v":-4.2526666666666673},0,0,1,0,0,0]
[null,null,null,null,null,null,null,null,11,"SND","g N/m3",null,0,0,0,0,0,-1,0,1,0]
[null,null,null,null,null,null,null,null,12,"XND","g N/m3",null,0,0,0,{"$f":"i_XB-fp*i_XP","v":8.1199999999999994E-2},{"$f":"i_XB-fp*i_XP","v":8.1199999999999994E-2},0,0,-1,0]
[null,null,null,null,null,null,null,null,13,"SALK",null,null,{"$f":"-i_XB/14","v":-6.1428571428571426E-3},{"$f":"((1-YH)/(14*2.86*YH))-(i_XB/14)","v":6.1582745612596343E-3},{"$f":"-i_XB/14-1/7/YA","v":-0.60138095238095235},0,0,{"$f":"1/14","v":7.1428571428571425E-2},0,0,0]

{"sheet":"Resultados","index":6,"n_rows":24,"n_cols":29,"rows_kept":24,"cut":false,"hidden":false,"merged":[[5,26,5,28],[19,22,19,24],[23,3,23,5],[12,18,12,20],[12,22,12,24],[19,18,19,20],[3,3,6,5],[8,3,8,5],[11,3,11,5],[17,3,17,5],[20,3,20,5],[14,3,14,5]]}
[]
[]
[]
[null,null,null,"Fangos Activados",null,null,null,null,null,null,"Estados"]
[null,null,null,null,null,null,null,null,null,null,"R1","R2","R3","R4","R5","Efluente","Decantador espesado"]
[null,null,null,null,null,null,null,null,1,"SI",{"$f":"Solver!K6","v":57.6},{"$f":"Solver!L6","v":57.6},{"$f":"Solver!M6","v":57.6},{"$f":"Solver!N6","v":57.6},{"$f":"Solver!O6","v":57.6},{"$f":"Solver!P6","v":57.6},{"$f":"Solver!Q6","v":57.6},null,null,null,null,null,null,null,null,null,"Calidad efluente"]
[null,null,null,null,null,null,null,null,2,"SS",{"$f":"Solver!K7","v":28.21464917535608},{"$f":"Solver!L7","v":18.188372319470073},{"$f":"Solver!M7","v":7.660732209573931},{"$f":"Solver!N7","v":5.8033207746726836},{"$f":"Solver!O7","v":5.450337575914256},{"$f":"Solver!P7","v":5.450337575914256},{"$f":"Solver!Q7","v":5.4503375759142569},null,null,null,null,null,null,null,null,null,"N-NH4",{"$f":"P15","v":8.4792145142018356},"gN/m3"]
[null,null,null,null,null,null,null,null,3,"XI",{"$f":"Solver!K8","v":636.03968448367812},{"$f":"Solver!L8","v":636.03968448367812},{"$f":"Solver!M8","v":636.03968448367812},{"$f":"Solver!N8","v":636.03968448367812},{"$f":"Solver!O8","v":636.03968448367812},{"$f":"Solver!P8","v":12.720793689673563},{"$f":"Solver!Q8","v":1237.3438689673562},null,null,null,null,null,null,null,null,null,"N-NO3",{"$f":"P14","v":7.9675324274723192},"gN/m3"]
[null,null,null,"Agua afluente",null,null,null,null,4,"XS",{"$f":"Solver!K9","v":208.93190149370636},{"$f":"Solver!L9","v":218.93967115155829},{"$f":"Solver!M9","v":203.33362186031124},{"$f":"Solver!N9","v":187.28724058282927},{"$f":"Solver!O9","v":171.47918089475661},{"$f":"Solver!P9","v":3.4295836178951324},{"$f":"Solver!Q9","v":333.59351359956878},null,null,null,null,null,null,null,null,null,"NT",{"$f":"NT","v":18.346897585782092},"gN/m3"]
[null,null,null,null,null,null,null,null,5,"XB,H",{"$f":"Solver!K10","v":2052.2051249887481},{"$f":"Solver!L10","v":2046.8818590448868},{"$f":"Solver!M10","v":2056.0544173841231},{"$f":"Solver!N10","v":2059.69865272069},{"$f":"Solver!O10","v":2062.1657915998144},{"$f":"Solver!P10","v":41.243315831996291},{"$f":"Solver!Q10","v":4011.7122583342898}]
[null,null,null,null,null,null,null,null,6,"XB,A",{"$f":"Solver!K11","v":87.56556875849175},{"$f":"Solver!L11","v":87.435494495039649},{"$f":"Solver!M11","v":87.900722093012305},{"$f":"Solver!N11","v":88.395746436897397},{"$f":"Solver!O11","v":88.886073543096572},{"$f":"Solver!P11","v":1.7777214708619316},{"$f":"Solver!Q11","v":172.9178867579833}]
[null,null,null,"Parámetros del modelo",null,null,null,null,7,"XP",{"$f":"Solver!K12","v":552.90617840965979},{"$f":"Solver!L12","v":554.04610430996047},{"$f":"Solver!M12","v":555.82728219530213},{"$f":"Solver!N12","v":557.61168001348301},{"$f":"Solver!O12","v":559.39828649567414},{"$f":"Solver!P12","v":11.187965729913483},{"$f":"Solver!Q12","v":1088.2466251585427}]
[null,null,null,null,null,null,null,null,8,"SO2",{"$f":"Solver!K13","v":1.6397536299223303E-2},{"$f":"Solver!L13","v":1.534387754797804E-4},{"$f":"Solver!M13","v":1.7318042617574863},{"$f":"Solver!N13","v":2.4481839588729226},{"$f":"Solver!O13","v":2.7094516807430438},{"$f":"Solver!P13","v":2.7094516807430438},{"$f":"Solver!Q13","v":2.7094516807430438},null,"Volúmenes",null,null,null,"Aireación"]
[null,null,null,null,null,null,null,null,9,"SNO",{"$f":"Solver!K14","v":1.731743952202359},{"$f":"Solver!L14","v":0.22256855399683137},{"$f":"Solver!M14","v":2.6225855545007919},{"$f":"Solver!N14","v":5.2890486045886842},{"$f":"Solver!O14","v":7.9675324274723192},{"$f":"Solver!P14","v":7.9675324274723192},{"$f":"Solver!Q14","v":7.9675324274723192},null,"VR1",{"$f":"V_tot*(1-f_aer)/2","v":900.00000000000011},"m3",null,"kLa_R3",{"$f":"kLa_R3","v":250},"d-1"]
[null,null,null,"Matriz de estequiometría ",null,null,null,null,10,"SNH",{"$f":"Solver!K15","v":16.858214284466005},{"$f":"Solver!L15","v":17.099053514309052},{"$f":"Solver!M15","v":13.7205335576134},{"$f":"Solver!N15","v":10.972977336938085},{"$f":"Solver!O15","v":8.4792145142018356},{"$f":"Solver!P15","v":8.4792145142018356},{"$f":"Solver!Q15","v":8.4792145142018356},null,"VR2",{"$f":"V_tot*(1-f_aer)/2","v":900.00000000000011},"m3",null,"kLa_R4",{"$f":"kLa_R4","v":250},"d-1"]
[null,null,null,null,null,null,null,null,11,"SND",{"$f":"Solver!K16","v":1.7841177779072657},{"$f":"Solver!L16","v":0.9983218136955031},{"$f":"Solver!M16","v":1.3778082963002944},{"$f":"Solver!N16","v":1.5609858749530532},{"$f":"Solver!O16","v":1.6482754730178197},{"$f":"Solver!P16","v":1.6482754730178197},{"$f":"Solver!Q16","v":1.6482754730178197},null,"VR3",{"$f":"V_tot*(f_aer)/3","v":1400},"m3",null,"kLa_R5",{"$f":"kLa_R5","v":250},"d-1"]
[null,null,null,null,null,null,null,null,12,"XND",{"$f":"Solver!K17","v":14.044532434495435},{"$f":"Solver!L17","v":14.989228114564321},{"$f":"Solver!M17","v":14.265199663866882},{"$f":"Solver!N17","v":13.450262682061021},{"$f":"Solver!O17","v":12.593758554505888},{"$f":"Solver!P17","v":0.25187517109011776},{"$f":"Solver!Q17","v":24.499744771936378},null,"VR4",{"$f":"V_tot*(f_aer)/3","v":1400},"m3",null,"kLa_R1",{"$f":"kLa_R1","v":0.01},"d-1"]
[null,null,null,"Inicialización ",null,null,null,null,13,"SALK",{"$f":"Solver!K18","v":27.866890738018814},{"$f":"Solver!L18","v":27.991891782879421},{"$f":"Solver!M18","v":27.579139143079448},{"$f":"Solver!N18","v":27.192423480882074},{"$f":"Solver!O18","v":26.822977291909229},{"$f":"Solver!P18","v":26.822977291909229},{"$f":"Solver!Q18","v":26.822977291909229},null,"VR5",{"$f":"V_tot*(f_aer)/3","v":1400},"m3",null,"kLa_R2",{"$f":"kLa_R2","v":0.01},"d-1"]
[]
[null,null,null,null,null,null,null,null,null,null,null,null,null,null,null,null,null,null,"Caudales",null,null,null,"Variables operacionales"]
[null,null,null,"Solver",null,null,null,null,null,null,null,null,null,null,null,null,null,null,"LW",{"$f":"Lw","v":800},"m3/d",null,"HRT",{"$f":"HRT","v":6.3573352169882122},"m3/d"]
[null,null,null,null,null,null,null,null,null,null,null,null,null,null,null,null,null,null,"LRI",{"$f":"L_Rint","v":200},"m3/d",null,"SRT",{"$f":"SRT","v":7.5},"m3/d"]
[null,null,null,null,null,null,null,null,null,null,null,null,null,null,null,null,null,null,"LRE",{"$f":"LR_ext","v":100},"m3/d"]
[null,null,null,"Resultados"]